BEGIN:VCALENDAR
VERSION:2.0
PRODID:-//eventon.com NONSGML v1.0//EN
CALSCALE:GREGORIAN
METHOD:PUBLISH
BEGIN:VEVENT
UID:69e7601a18597
DTSTAMP:20260421T113138Z
DTSTART:20260428T160000Z
DTEND:20260428T160000Z
LOCATION:Mezőtúri Móricz Zsigmond Városi Könyvtár Mezőtúr\,  Szabadság tér 17.
SUMMARY:Tóth Krisztina Mezőtúron
DESCRIPTION:\nhttps://www.bekesnapok.hu/events/toth-krisztina-mezoturon-2/
URL:https://www.bekesnapok.hu/events/toth-krisztina-mezoturon-2/
END:VEVENT
END:VCALENDAR