BEGIN:VCALENDAR
VERSION:2.0
PRODID:-//eventon.com NONSGML v1.0//EN
CALSCALE:GREGORIAN
METHOD:PUBLISH
BEGIN:VEVENT
UID:69e9f675c8b6f
DTSTAMP:20260423T103741Z
DTSTART:20260423T160000Z
DTEND:20260423T160000Z
LOCATION:Művelődési Ház - Battonya Battonya\,  Fő utca 77.
SUMMARY:Véletlenül írtam egy könyvet
DESCRIPTION:&#x1f446;Kedves battonyaiak! &#x1f5d3;&#xfe0f;Ismét Filmio Moz
 iKlub településünkön\,  amely az idei évben 6 alkalommal valósul meg 
 Battonyán! &#x1f3a5; &#x1f39e;&#xfe0f;2026. április 23-án 17.00 órátó
 l nézd meg velünk Lakos Nóra: Véletlenül írtam egy könyvet című ma
 gyar-holland családi filmjét. &#x1f917;Sok szeretettel várunk minden ked
 ves érdeklődőt!&#x1f970; A Filmio Moziklub a Kulturális és Innováció
 s Minisztérium támogatásával\,  a[..]\nhttps://www.bekesnapok.hu/events
 /veletlenul-irtam-egy-konyvet/
URL:https://www.bekesnapok.hu/events/veletlenul-irtam-egy-konyvet/
END:VEVENT
END:VCALENDAR